BEGIN:VCALENDAR
VERSION:2.0
PRODID:-//The Craft House Temecula - ECPv6.15.20//NONSGML v1.0//EN
CALSCALE:GREGORIAN
METHOD:PUBLISH
X-WR-CALNAME:The Craft House Temecula
X-ORIGINAL-URL:https://thecrafthousetemecula.com
X-WR-CALDESC:Events for The Craft House Temecula
REFRESH-INTERVAL;VALUE=DURATION:PT1H
X-Robots-Tag:noindex
X-PUBLISHED-TTL:PT1H
BEGIN:VTIMEZONE
TZID:UTC
BEGIN:STANDARD
TZOFFSETFROM:+0000
TZOFFSETTO:+0000
TZNAME:UTC
DTSTART:20250101T000000
END:STANDARD
END:VTIMEZONE
BEGIN:VEVENT
DTSTART;TZID=UTC:20260729T120000
DTEND;TZID=UTC:20260729T170000
DTSTAMP:20260421T142813
CREATED:20260204T235220Z
LAST-MODIFIED:20260204T235220Z
UID:20335-1785326400-1785344400@thecrafthousetemecula.com
SUMMARY:Pressed Flower Frame Experience
DESCRIPTION:Available alternating Wednesdays.  \nDesign a botanical keepsake using curated pressed flowers and a modern frame. \nA calm\, elevated project that pairs beautifully with our Candle Bar. \nLimited availability; walk-ins welcome.
URL:https://thecrafthousetemecula.com/calendar/pressed-flower-frame-experience/2026-07-29/
LOCATION:The Craft House Temecula\, 32123 Temecula Parkway\, Suite A\, Temecula\, CA\, 92592\, United States
ATTACH;FMTTYPE=image/jpeg:https://thecrafthousetemecula.com/wp-content/uploads/2026/02/IMG_0867-scaled.jpeg
END:VEVENT
BEGIN:VEVENT
DTSTART;TZID=UTC:20260730T120000
DTEND;TZID=UTC:20260730T173000
DTSTAMP:20260421T142813
CREATED:20260204T234448Z
LAST-MODIFIED:20260204T234448Z
UID:20612-1785412800-1785432600@thecrafthousetemecula.com
SUMMARY:Hat Bar Experience
DESCRIPTION:Available Thursdays & Fridays Only \nCustomize a hat with curated embellishments and styling assistance. \nIncludes a hat (variety of colors available) and one embellishment.Additional upgrades available. \nLimited availability each day; walk-ins welcome.
URL:https://thecrafthousetemecula.com/calendar/hat-bar-experience/2026-07-30/
LOCATION:The Craft House Temecula\, 32123 Temecula Parkway\, Suite A\, Temecula\, CA\, 92592\, United States
ATTACH;FMTTYPE=image/jpeg:https://thecrafthousetemecula.com/wp-content/uploads/2026/02/IMG_8805-scaled.jpeg
END:VEVENT
BEGIN:VEVENT
DTSTART;TZID=UTC:20260731T120000
DTEND;TZID=UTC:20260731T173000
DTSTAMP:20260421T142813
CREATED:20260204T234448Z
LAST-MODIFIED:20260204T234448Z
UID:20613-1785499200-1785519000@thecrafthousetemecula.com
SUMMARY:Hat Bar Experience
DESCRIPTION:Available Thursdays & Fridays Only \nCustomize a hat with curated embellishments and styling assistance. \nIncludes a hat (variety of colors available) and one embellishment.Additional upgrades available. \nLimited availability each day; walk-ins welcome.
URL:https://thecrafthousetemecula.com/calendar/hat-bar-experience/2026-07-31/
LOCATION:The Craft House Temecula\, 32123 Temecula Parkway\, Suite A\, Temecula\, CA\, 92592\, United States
ATTACH;FMTTYPE=image/jpeg:https://thecrafthousetemecula.com/wp-content/uploads/2026/02/IMG_8805-scaled.jpeg
END:VEVENT
BEGIN:VEVENT
DTSTART;TZID=UTC:20260806T120000
DTEND;TZID=UTC:20260806T173000
DTSTAMP:20260421T142813
CREATED:20260204T234448Z
LAST-MODIFIED:20260204T234448Z
UID:20614-1786017600-1786037400@thecrafthousetemecula.com
SUMMARY:Hat Bar Experience
DESCRIPTION:Available Thursdays & Fridays Only \nCustomize a hat with curated embellishments and styling assistance. \nIncludes a hat (variety of colors available) and one embellishment.Additional upgrades available. \nLimited availability each day; walk-ins welcome.
URL:https://thecrafthousetemecula.com/calendar/hat-bar-experience/2026-08-06/
LOCATION:The Craft House Temecula\, 32123 Temecula Parkway\, Suite A\, Temecula\, CA\, 92592\, United States
ATTACH;FMTTYPE=image/jpeg:https://thecrafthousetemecula.com/wp-content/uploads/2026/02/IMG_8805-scaled.jpeg
END:VEVENT
BEGIN:VEVENT
DTSTART;TZID=UTC:20260807T120000
DTEND;TZID=UTC:20260807T173000
DTSTAMP:20260421T142813
CREATED:20260204T234448Z
LAST-MODIFIED:20260204T234448Z
UID:20615-1786104000-1786123800@thecrafthousetemecula.com
SUMMARY:Hat Bar Experience
DESCRIPTION:Available Thursdays & Fridays Only \nCustomize a hat with curated embellishments and styling assistance. \nIncludes a hat (variety of colors available) and one embellishment.Additional upgrades available. \nLimited availability each day; walk-ins welcome.
URL:https://thecrafthousetemecula.com/calendar/hat-bar-experience/2026-08-07/
LOCATION:The Craft House Temecula\, 32123 Temecula Parkway\, Suite A\, Temecula\, CA\, 92592\, United States
ATTACH;FMTTYPE=image/jpeg:https://thecrafthousetemecula.com/wp-content/uploads/2026/02/IMG_8805-scaled.jpeg
END:VEVENT
BEGIN:VEVENT
DTSTART;TZID=UTC:20260812T120000
DTEND;TZID=UTC:20260812T170000
DTSTAMP:20260421T142813
CREATED:20260204T235220Z
LAST-MODIFIED:20260204T235220Z
UID:20336-1786536000-1786554000@thecrafthousetemecula.com
SUMMARY:Pressed Flower Frame Experience
DESCRIPTION:Available alternating Wednesdays.  \nDesign a botanical keepsake using curated pressed flowers and a modern frame. \nA calm\, elevated project that pairs beautifully with our Candle Bar. \nLimited availability; walk-ins welcome.
URL:https://thecrafthousetemecula.com/calendar/pressed-flower-frame-experience/2026-08-12/
LOCATION:The Craft House Temecula\, 32123 Temecula Parkway\, Suite A\, Temecula\, CA\, 92592\, United States
ATTACH;FMTTYPE=image/jpeg:https://thecrafthousetemecula.com/wp-content/uploads/2026/02/IMG_0867-scaled.jpeg
END:VEVENT
BEGIN:VEVENT
DTSTART;TZID=UTC:20260813T120000
DTEND;TZID=UTC:20260813T173000
DTSTAMP:20260421T142813
CREATED:20260204T234448Z
LAST-MODIFIED:20260204T234448Z
UID:20616-1786622400-1786642200@thecrafthousetemecula.com
SUMMARY:Hat Bar Experience
DESCRIPTION:Available Thursdays & Fridays Only \nCustomize a hat with curated embellishments and styling assistance. \nIncludes a hat (variety of colors available) and one embellishment.Additional upgrades available. \nLimited availability each day; walk-ins welcome.
URL:https://thecrafthousetemecula.com/calendar/hat-bar-experience/2026-08-13/
LOCATION:The Craft House Temecula\, 32123 Temecula Parkway\, Suite A\, Temecula\, CA\, 92592\, United States
ATTACH;FMTTYPE=image/jpeg:https://thecrafthousetemecula.com/wp-content/uploads/2026/02/IMG_8805-scaled.jpeg
END:VEVENT
BEGIN:VEVENT
DTSTART;TZID=UTC:20260814T120000
DTEND;TZID=UTC:20260814T173000
DTSTAMP:20260421T142813
CREATED:20260204T234448Z
LAST-MODIFIED:20260204T234448Z
UID:20617-1786708800-1786728600@thecrafthousetemecula.com
SUMMARY:Hat Bar Experience
DESCRIPTION:Available Thursdays & Fridays Only \nCustomize a hat with curated embellishments and styling assistance. \nIncludes a hat (variety of colors available) and one embellishment.Additional upgrades available. \nLimited availability each day; walk-ins welcome.
URL:https://thecrafthousetemecula.com/calendar/hat-bar-experience/2026-08-14/
LOCATION:The Craft House Temecula\, 32123 Temecula Parkway\, Suite A\, Temecula\, CA\, 92592\, United States
ATTACH;FMTTYPE=image/jpeg:https://thecrafthousetemecula.com/wp-content/uploads/2026/02/IMG_8805-scaled.jpeg
END:VEVENT
BEGIN:VEVENT
DTSTART;TZID=UTC:20260820T120000
DTEND;TZID=UTC:20260820T173000
DTSTAMP:20260421T142813
CREATED:20260204T234448Z
LAST-MODIFIED:20260204T234448Z
UID:20618-1787227200-1787247000@thecrafthousetemecula.com
SUMMARY:Hat Bar Experience
DESCRIPTION:Available Thursdays & Fridays Only \nCustomize a hat with curated embellishments and styling assistance. \nIncludes a hat (variety of colors available) and one embellishment.Additional upgrades available. \nLimited availability each day; walk-ins welcome.
URL:https://thecrafthousetemecula.com/calendar/hat-bar-experience/2026-08-20/
LOCATION:The Craft House Temecula\, 32123 Temecula Parkway\, Suite A\, Temecula\, CA\, 92592\, United States
ATTACH;FMTTYPE=image/jpeg:https://thecrafthousetemecula.com/wp-content/uploads/2026/02/IMG_8805-scaled.jpeg
END:VEVENT
BEGIN:VEVENT
DTSTART;TZID=UTC:20260821T120000
DTEND;TZID=UTC:20260821T173000
DTSTAMP:20260421T142813
CREATED:20260204T234448Z
LAST-MODIFIED:20260204T234448Z
UID:20619-1787313600-1787333400@thecrafthousetemecula.com
SUMMARY:Hat Bar Experience
DESCRIPTION:Available Thursdays & Fridays Only \nCustomize a hat with curated embellishments and styling assistance. \nIncludes a hat (variety of colors available) and one embellishment.Additional upgrades available. \nLimited availability each day; walk-ins welcome.
URL:https://thecrafthousetemecula.com/calendar/hat-bar-experience/2026-08-21/
LOCATION:The Craft House Temecula\, 32123 Temecula Parkway\, Suite A\, Temecula\, CA\, 92592\, United States
ATTACH;FMTTYPE=image/jpeg:https://thecrafthousetemecula.com/wp-content/uploads/2026/02/IMG_8805-scaled.jpeg
END:VEVENT
BEGIN:VEVENT
DTSTART;TZID=UTC:20260826T120000
DTEND;TZID=UTC:20260826T170000
DTSTAMP:20260421T142813
CREATED:20260204T235220Z
LAST-MODIFIED:20260204T235220Z
UID:20337-1787745600-1787763600@thecrafthousetemecula.com
SUMMARY:Pressed Flower Frame Experience
DESCRIPTION:Available alternating Wednesdays.  \nDesign a botanical keepsake using curated pressed flowers and a modern frame. \nA calm\, elevated project that pairs beautifully with our Candle Bar. \nLimited availability; walk-ins welcome.
URL:https://thecrafthousetemecula.com/calendar/pressed-flower-frame-experience/2026-08-26/
LOCATION:The Craft House Temecula\, 32123 Temecula Parkway\, Suite A\, Temecula\, CA\, 92592\, United States
ATTACH;FMTTYPE=image/jpeg:https://thecrafthousetemecula.com/wp-content/uploads/2026/02/IMG_0867-scaled.jpeg
END:VEVENT
BEGIN:VEVENT
DTSTART;TZID=UTC:20260827T120000
DTEND;TZID=UTC:20260827T173000
DTSTAMP:20260421T142813
CREATED:20260204T234448Z
LAST-MODIFIED:20260204T234448Z
UID:20620-1787832000-1787851800@thecrafthousetemecula.com
SUMMARY:Hat Bar Experience
DESCRIPTION:Available Thursdays & Fridays Only \nCustomize a hat with curated embellishments and styling assistance. \nIncludes a hat (variety of colors available) and one embellishment.Additional upgrades available. \nLimited availability each day; walk-ins welcome.
URL:https://thecrafthousetemecula.com/calendar/hat-bar-experience/2026-08-27/
LOCATION:The Craft House Temecula\, 32123 Temecula Parkway\, Suite A\, Temecula\, CA\, 92592\, United States
ATTACH;FMTTYPE=image/jpeg:https://thecrafthousetemecula.com/wp-content/uploads/2026/02/IMG_8805-scaled.jpeg
END:VEVENT
BEGIN:VEVENT
DTSTART;TZID=UTC:20260828T120000
DTEND;TZID=UTC:20260828T173000
DTSTAMP:20260421T142813
CREATED:20260204T234448Z
LAST-MODIFIED:20260204T234448Z
UID:20621-1787918400-1787938200@thecrafthousetemecula.com
SUMMARY:Hat Bar Experience
DESCRIPTION:Available Thursdays & Fridays Only \nCustomize a hat with curated embellishments and styling assistance. \nIncludes a hat (variety of colors available) and one embellishment.Additional upgrades available. \nLimited availability each day; walk-ins welcome.
URL:https://thecrafthousetemecula.com/calendar/hat-bar-experience/2026-08-28/
LOCATION:The Craft House Temecula\, 32123 Temecula Parkway\, Suite A\, Temecula\, CA\, 92592\, United States
ATTACH;FMTTYPE=image/jpeg:https://thecrafthousetemecula.com/wp-content/uploads/2026/02/IMG_8805-scaled.jpeg
END:VEVENT
BEGIN:VEVENT
DTSTART;TZID=UTC:20260903T120000
DTEND;TZID=UTC:20260903T173000
DTSTAMP:20260421T142813
CREATED:20260204T234448Z
LAST-MODIFIED:20260204T234448Z
UID:20622-1788436800-1788456600@thecrafthousetemecula.com
SUMMARY:Hat Bar Experience
DESCRIPTION:Available Thursdays & Fridays Only \nCustomize a hat with curated embellishments and styling assistance. \nIncludes a hat (variety of colors available) and one embellishment.Additional upgrades available. \nLimited availability each day; walk-ins welcome.
URL:https://thecrafthousetemecula.com/calendar/hat-bar-experience/2026-09-03/
LOCATION:The Craft House Temecula\, 32123 Temecula Parkway\, Suite A\, Temecula\, CA\, 92592\, United States
ATTACH;FMTTYPE=image/jpeg:https://thecrafthousetemecula.com/wp-content/uploads/2026/02/IMG_8805-scaled.jpeg
END:VEVENT
BEGIN:VEVENT
DTSTART;TZID=UTC:20260904T120000
DTEND;TZID=UTC:20260904T173000
DTSTAMP:20260421T142813
CREATED:20260204T234448Z
LAST-MODIFIED:20260204T234448Z
UID:20623-1788523200-1788543000@thecrafthousetemecula.com
SUMMARY:Hat Bar Experience
DESCRIPTION:Available Thursdays & Fridays Only \nCustomize a hat with curated embellishments and styling assistance. \nIncludes a hat (variety of colors available) and one embellishment.Additional upgrades available. \nLimited availability each day; walk-ins welcome.
URL:https://thecrafthousetemecula.com/calendar/hat-bar-experience/2026-09-04/
LOCATION:The Craft House Temecula\, 32123 Temecula Parkway\, Suite A\, Temecula\, CA\, 92592\, United States
ATTACH;FMTTYPE=image/jpeg:https://thecrafthousetemecula.com/wp-content/uploads/2026/02/IMG_8805-scaled.jpeg
END:VEVENT
BEGIN:VEVENT
DTSTART;TZID=UTC:20260909T120000
DTEND;TZID=UTC:20260909T170000
DTSTAMP:20260421T142813
CREATED:20260204T235220Z
LAST-MODIFIED:20260204T235220Z
UID:20338-1788955200-1788973200@thecrafthousetemecula.com
SUMMARY:Pressed Flower Frame Experience
DESCRIPTION:Available alternating Wednesdays.  \nDesign a botanical keepsake using curated pressed flowers and a modern frame. \nA calm\, elevated project that pairs beautifully with our Candle Bar. \nLimited availability; walk-ins welcome.
URL:https://thecrafthousetemecula.com/calendar/pressed-flower-frame-experience/2026-09-09/
LOCATION:The Craft House Temecula\, 32123 Temecula Parkway\, Suite A\, Temecula\, CA\, 92592\, United States
ATTACH;FMTTYPE=image/jpeg:https://thecrafthousetemecula.com/wp-content/uploads/2026/02/IMG_0867-scaled.jpeg
END:VEVENT
BEGIN:VEVENT
DTSTART;TZID=UTC:20260910T120000
DTEND;TZID=UTC:20260910T173000
DTSTAMP:20260421T142813
CREATED:20260204T234448Z
LAST-MODIFIED:20260204T234448Z
UID:20624-1789041600-1789061400@thecrafthousetemecula.com
SUMMARY:Hat Bar Experience
DESCRIPTION:Available Thursdays & Fridays Only \nCustomize a hat with curated embellishments and styling assistance. \nIncludes a hat (variety of colors available) and one embellishment.Additional upgrades available. \nLimited availability each day; walk-ins welcome.
URL:https://thecrafthousetemecula.com/calendar/hat-bar-experience/2026-09-10/
LOCATION:The Craft House Temecula\, 32123 Temecula Parkway\, Suite A\, Temecula\, CA\, 92592\, United States
ATTACH;FMTTYPE=image/jpeg:https://thecrafthousetemecula.com/wp-content/uploads/2026/02/IMG_8805-scaled.jpeg
END:VEVENT
BEGIN:VEVENT
DTSTART;TZID=UTC:20260911T120000
DTEND;TZID=UTC:20260911T173000
DTSTAMP:20260421T142813
CREATED:20260204T234448Z
LAST-MODIFIED:20260204T234448Z
UID:20625-1789128000-1789147800@thecrafthousetemecula.com
SUMMARY:Hat Bar Experience
DESCRIPTION:Available Thursdays & Fridays Only \nCustomize a hat with curated embellishments and styling assistance. \nIncludes a hat (variety of colors available) and one embellishment.Additional upgrades available. \nLimited availability each day; walk-ins welcome.
URL:https://thecrafthousetemecula.com/calendar/hat-bar-experience/2026-09-11/
LOCATION:The Craft House Temecula\, 32123 Temecula Parkway\, Suite A\, Temecula\, CA\, 92592\, United States
ATTACH;FMTTYPE=image/jpeg:https://thecrafthousetemecula.com/wp-content/uploads/2026/02/IMG_8805-scaled.jpeg
END:VEVENT
BEGIN:VEVENT
DTSTART;TZID=UTC:20260917T120000
DTEND;TZID=UTC:20260917T173000
DTSTAMP:20260421T142813
CREATED:20260204T234448Z
LAST-MODIFIED:20260204T234448Z
UID:20626-1789646400-1789666200@thecrafthousetemecula.com
SUMMARY:Hat Bar Experience
DESCRIPTION:Available Thursdays & Fridays Only \nCustomize a hat with curated embellishments and styling assistance. \nIncludes a hat (variety of colors available) and one embellishment.Additional upgrades available. \nLimited availability each day; walk-ins welcome.
URL:https://thecrafthousetemecula.com/calendar/hat-bar-experience/2026-09-17/
LOCATION:The Craft House Temecula\, 32123 Temecula Parkway\, Suite A\, Temecula\, CA\, 92592\, United States
ATTACH;FMTTYPE=image/jpeg:https://thecrafthousetemecula.com/wp-content/uploads/2026/02/IMG_8805-scaled.jpeg
END:VEVENT
BEGIN:VEVENT
DTSTART;TZID=UTC:20260918T120000
DTEND;TZID=UTC:20260918T173000
DTSTAMP:20260421T142813
CREATED:20260204T234448Z
LAST-MODIFIED:20260204T234448Z
UID:20627-1789732800-1789752600@thecrafthousetemecula.com
SUMMARY:Hat Bar Experience
DESCRIPTION:Available Thursdays & Fridays Only \nCustomize a hat with curated embellishments and styling assistance. \nIncludes a hat (variety of colors available) and one embellishment.Additional upgrades available. \nLimited availability each day; walk-ins welcome.
URL:https://thecrafthousetemecula.com/calendar/hat-bar-experience/2026-09-18/
LOCATION:The Craft House Temecula\, 32123 Temecula Parkway\, Suite A\, Temecula\, CA\, 92592\, United States
ATTACH;FMTTYPE=image/jpeg:https://thecrafthousetemecula.com/wp-content/uploads/2026/02/IMG_8805-scaled.jpeg
END:VEVENT
BEGIN:VEVENT
DTSTART;TZID=UTC:20260923T120000
DTEND;TZID=UTC:20260923T170000
DTSTAMP:20260421T142813
CREATED:20260204T235220Z
LAST-MODIFIED:20260204T235220Z
UID:20339-1790164800-1790182800@thecrafthousetemecula.com
SUMMARY:Pressed Flower Frame Experience
DESCRIPTION:Available alternating Wednesdays.  \nDesign a botanical keepsake using curated pressed flowers and a modern frame. \nA calm\, elevated project that pairs beautifully with our Candle Bar. \nLimited availability; walk-ins welcome.
URL:https://thecrafthousetemecula.com/calendar/pressed-flower-frame-experience/2026-09-23/
LOCATION:The Craft House Temecula\, 32123 Temecula Parkway\, Suite A\, Temecula\, CA\, 92592\, United States
ATTACH;FMTTYPE=image/jpeg:https://thecrafthousetemecula.com/wp-content/uploads/2026/02/IMG_0867-scaled.jpeg
END:VEVENT
BEGIN:VEVENT
DTSTART;TZID=UTC:20260924T120000
DTEND;TZID=UTC:20260924T173000
DTSTAMP:20260421T142813
CREATED:20260204T234448Z
LAST-MODIFIED:20260204T234448Z
UID:20628-1790251200-1790271000@thecrafthousetemecula.com
SUMMARY:Hat Bar Experience
DESCRIPTION:Available Thursdays & Fridays Only \nCustomize a hat with curated embellishments and styling assistance. \nIncludes a hat (variety of colors available) and one embellishment.Additional upgrades available. \nLimited availability each day; walk-ins welcome.
URL:https://thecrafthousetemecula.com/calendar/hat-bar-experience/2026-09-24/
LOCATION:The Craft House Temecula\, 32123 Temecula Parkway\, Suite A\, Temecula\, CA\, 92592\, United States
ATTACH;FMTTYPE=image/jpeg:https://thecrafthousetemecula.com/wp-content/uploads/2026/02/IMG_8805-scaled.jpeg
END:VEVENT
BEGIN:VEVENT
DTSTART;TZID=UTC:20260925T120000
DTEND;TZID=UTC:20260925T173000
DTSTAMP:20260421T142813
CREATED:20260204T234448Z
LAST-MODIFIED:20260204T234448Z
UID:20629-1790337600-1790357400@thecrafthousetemecula.com
SUMMARY:Hat Bar Experience
DESCRIPTION:Available Thursdays & Fridays Only \nCustomize a hat with curated embellishments and styling assistance. \nIncludes a hat (variety of colors available) and one embellishment.Additional upgrades available. \nLimited availability each day; walk-ins welcome.
URL:https://thecrafthousetemecula.com/calendar/hat-bar-experience/2026-09-25/
LOCATION:The Craft House Temecula\, 32123 Temecula Parkway\, Suite A\, Temecula\, CA\, 92592\, United States
ATTACH;FMTTYPE=image/jpeg:https://thecrafthousetemecula.com/wp-content/uploads/2026/02/IMG_8805-scaled.jpeg
END:VEVENT
BEGIN:VEVENT
DTSTART;TZID=UTC:20261001T120000
DTEND;TZID=UTC:20261001T173000
DTSTAMP:20260421T142813
CREATED:20260204T234448Z
LAST-MODIFIED:20260204T234448Z
UID:20630-1790856000-1790875800@thecrafthousetemecula.com
SUMMARY:Hat Bar Experience
DESCRIPTION:Available Thursdays & Fridays Only \nCustomize a hat with curated embellishments and styling assistance. \nIncludes a hat (variety of colors available) and one embellishment.Additional upgrades available. \nLimited availability each day; walk-ins welcome.
URL:https://thecrafthousetemecula.com/calendar/hat-bar-experience/2026-10-01/
LOCATION:The Craft House Temecula\, 32123 Temecula Parkway\, Suite A\, Temecula\, CA\, 92592\, United States
ATTACH;FMTTYPE=image/jpeg:https://thecrafthousetemecula.com/wp-content/uploads/2026/02/IMG_8805-scaled.jpeg
END:VEVENT
BEGIN:VEVENT
DTSTART;TZID=UTC:20261002T120000
DTEND;TZID=UTC:20261002T173000
DTSTAMP:20260421T142813
CREATED:20260204T234448Z
LAST-MODIFIED:20260204T234448Z
UID:20631-1790942400-1790962200@thecrafthousetemecula.com
SUMMARY:Hat Bar Experience
DESCRIPTION:Available Thursdays & Fridays Only \nCustomize a hat with curated embellishments and styling assistance. \nIncludes a hat (variety of colors available) and one embellishment.Additional upgrades available. \nLimited availability each day; walk-ins welcome.
URL:https://thecrafthousetemecula.com/calendar/hat-bar-experience/2026-10-02/
LOCATION:The Craft House Temecula\, 32123 Temecula Parkway\, Suite A\, Temecula\, CA\, 92592\, United States
ATTACH;FMTTYPE=image/jpeg:https://thecrafthousetemecula.com/wp-content/uploads/2026/02/IMG_8805-scaled.jpeg
END:VEVENT
BEGIN:VEVENT
DTSTART;TZID=UTC:20261007T120000
DTEND;TZID=UTC:20261007T170000
DTSTAMP:20260421T142813
CREATED:20260204T235220Z
LAST-MODIFIED:20260204T235220Z
UID:20340-1791374400-1791392400@thecrafthousetemecula.com
SUMMARY:Pressed Flower Frame Experience
DESCRIPTION:Available alternating Wednesdays.  \nDesign a botanical keepsake using curated pressed flowers and a modern frame. \nA calm\, elevated project that pairs beautifully with our Candle Bar. \nLimited availability; walk-ins welcome.
URL:https://thecrafthousetemecula.com/calendar/pressed-flower-frame-experience/2026-10-07/
LOCATION:The Craft House Temecula\, 32123 Temecula Parkway\, Suite A\, Temecula\, CA\, 92592\, United States
ATTACH;FMTTYPE=image/jpeg:https://thecrafthousetemecula.com/wp-content/uploads/2026/02/IMG_0867-scaled.jpeg
END:VEVENT
BEGIN:VEVENT
DTSTART;TZID=UTC:20261008T120000
DTEND;TZID=UTC:20261008T173000
DTSTAMP:20260421T142813
CREATED:20260204T234448Z
LAST-MODIFIED:20260204T234448Z
UID:20632-1791460800-1791480600@thecrafthousetemecula.com
SUMMARY:Hat Bar Experience
DESCRIPTION:Available Thursdays & Fridays Only \nCustomize a hat with curated embellishments and styling assistance. \nIncludes a hat (variety of colors available) and one embellishment.Additional upgrades available. \nLimited availability each day; walk-ins welcome.
URL:https://thecrafthousetemecula.com/calendar/hat-bar-experience/2026-10-08/
LOCATION:The Craft House Temecula\, 32123 Temecula Parkway\, Suite A\, Temecula\, CA\, 92592\, United States
ATTACH;FMTTYPE=image/jpeg:https://thecrafthousetemecula.com/wp-content/uploads/2026/02/IMG_8805-scaled.jpeg
END:VEVENT
BEGIN:VEVENT
DTSTART;TZID=UTC:20261009T120000
DTEND;TZID=UTC:20261009T173000
DTSTAMP:20260421T142813
CREATED:20260204T234448Z
LAST-MODIFIED:20260204T234448Z
UID:20633-1791547200-1791567000@thecrafthousetemecula.com
SUMMARY:Hat Bar Experience
DESCRIPTION:Available Thursdays & Fridays Only \nCustomize a hat with curated embellishments and styling assistance. \nIncludes a hat (variety of colors available) and one embellishment.Additional upgrades available. \nLimited availability each day; walk-ins welcome.
URL:https://thecrafthousetemecula.com/calendar/hat-bar-experience/2026-10-09/
LOCATION:The Craft House Temecula\, 32123 Temecula Parkway\, Suite A\, Temecula\, CA\, 92592\, United States
ATTACH;FMTTYPE=image/jpeg:https://thecrafthousetemecula.com/wp-content/uploads/2026/02/IMG_8805-scaled.jpeg
END:VEVENT
BEGIN:VEVENT
DTSTART;TZID=UTC:20261015T120000
DTEND;TZID=UTC:20261015T173000
DTSTAMP:20260421T142813
CREATED:20260204T234448Z
LAST-MODIFIED:20260204T234448Z
UID:20634-1792065600-1792085400@thecrafthousetemecula.com
SUMMARY:Hat Bar Experience
DESCRIPTION:Available Thursdays & Fridays Only \nCustomize a hat with curated embellishments and styling assistance. \nIncludes a hat (variety of colors available) and one embellishment.Additional upgrades available. \nLimited availability each day; walk-ins welcome.
URL:https://thecrafthousetemecula.com/calendar/hat-bar-experience/2026-10-15/
LOCATION:The Craft House Temecula\, 32123 Temecula Parkway\, Suite A\, Temecula\, CA\, 92592\, United States
ATTACH;FMTTYPE=image/jpeg:https://thecrafthousetemecula.com/wp-content/uploads/2026/02/IMG_8805-scaled.jpeg
END:VEVENT
BEGIN:VEVENT
DTSTART;TZID=UTC:20261016T120000
DTEND;TZID=UTC:20261016T173000
DTSTAMP:20260421T142813
CREATED:20260204T234448Z
LAST-MODIFIED:20260204T234448Z
UID:20635-1792152000-1792171800@thecrafthousetemecula.com
SUMMARY:Hat Bar Experience
DESCRIPTION:Available Thursdays & Fridays Only \nCustomize a hat with curated embellishments and styling assistance. \nIncludes a hat (variety of colors available) and one embellishment.Additional upgrades available. \nLimited availability each day; walk-ins welcome.
URL:https://thecrafthousetemecula.com/calendar/hat-bar-experience/2026-10-16/
LOCATION:The Craft House Temecula\, 32123 Temecula Parkway\, Suite A\, Temecula\, CA\, 92592\, United States
ATTACH;FMTTYPE=image/jpeg:https://thecrafthousetemecula.com/wp-content/uploads/2026/02/IMG_8805-scaled.jpeg
END:VEVENT
END:VCALENDAR