BEGIN:VCALENDAR
VERSION:2.0
PRODID:-//The Craft House Temecula - ECPv6.15.20//NONSGML v1.0//EN
CALSCALE:GREGORIAN
METHOD:PUBLISH
X-ORIGINAL-URL:https://thecrafthousetemecula.com
X-WR-CALDESC:Events for The Craft House Temecula
REFRESH-INTERVAL;VALUE=DURATION:PT1H
X-Robots-Tag:noindex
X-PUBLISHED-TTL:PT1H
BEGIN:VTIMEZONE
TZID:UTC
BEGIN:STANDARD
TZOFFSETFROM:+0000
TZOFFSETTO:+0000
TZNAME:UTC
DTSTART:20250101T000000
END:STANDARD
END:VTIMEZONE
BEGIN:VEVENT
DTSTART;TZID=UTC:20260225T120000
DTEND;TZID=UTC:20260225T170000
DTSTAMP:20260421T154802
CREATED:20260204T235220Z
LAST-MODIFIED:20260204T235220Z
UID:20323-1772020800-1772038800@thecrafthousetemecula.com
SUMMARY:Pressed Flower Frame Experience
DESCRIPTION:Available alternating Wednesdays.  \nDesign a botanical keepsake using curated pressed flowers and a modern frame. \nA calm\, elevated project that pairs beautifully with our Candle Bar. \nLimited availability; walk-ins welcome.
URL:https://thecrafthousetemecula.com/calendar/pressed-flower-frame-experience/2026-02-25/
LOCATION:The Craft House Temecula\, 32123 Temecula Parkway\, Suite A\, Temecula\, CA\, 92592\, United States
ATTACH;FMTTYPE=image/jpeg:https://thecrafthousetemecula.com/wp-content/uploads/2026/02/IMG_0867-scaled.jpeg
END:VEVENT
BEGIN:VEVENT
DTSTART;TZID=UTC:20260222T130000
DTEND;TZID=UTC:20260222T170000
DTSTAMP:20260421T154802
CREATED:20260218T015531Z
LAST-MODIFIED:20260218T025252Z
UID:20743-1771765200-1771779600@thecrafthousetemecula.com
SUMMARY:6-Year Anniversary Candle & Flower Studio
DESCRIPTION:Join us this Sunday as we celebrate 6 years of creativity at The Craft House with a special featured Open Studio experience. \nFor this one-day anniversary edition\, we’re highlighting our Candle Bar Studio and limited Pressed Flower Frame Experience in a relaxed\, elevated setting. \nIn honor of our 6-year anniversary\, guests creating candles may choose a special edition anniversary label and we’re gifting a complimentary signature scent blend while supplies last. \n🕯️ Candle Bar Studio \nDesign a custom-scented candle from start to finish. \nEach candle includes:\n• A curated vessel• Premium wax• Color dye• One fragrance• A standard label• A simple wax melt topping \nOptional upgrades such as scent blending and specialty toppings are available for those who wish to personalize their candle further. \nProjects start at $35. \n\n🌸 Pressed Flower Frame Experience \nAvailable for this Sunday only\, we are offering a limited number of Pressed Flower Frame projects. \nCreate a botanical keepsake using curated pressed flowers and a modern frame. This is a calm\, intentional experience and pairs beautifully with our Candle Bar. \nProjects start at $45.Only 8 frames available. \n\n🎨 Creative Table & Charm Bar Available \nOur Creative Table (canvas & wood projects) will also be available for guests who prefer painting. as well as Charm Bar. \nProjects start at $22. \n\nWhat to Expect \n• This is a drop-in experience (no set class time)• Walk-ins are welcome (Optional – rsvp below to let us know you’re coming)• Projects are priced individually• Guests may create more than one project• Availability is limited for Pressed Flower Frames \nWe recommend arriving earlier in the afternoon for the best selection. \n\nEvent Details \n📅 Sunday⏰ 1:00 PM – 5:00 PM📍 The Craft House Temecula \nCome create at your own pace and enjoy a beautifully curated Sunday creative experience.
URL:https://thecrafthousetemecula.com/calendar/6-year-anniversary-candle-flower-studio/
LOCATION:The Craft House Temecula\, 32123 Temecula Parkway\, Suite A\, Temecula\, CA\, 92592\, United States
CATEGORIES:Creative Workshop,Special Event
ATTACH;FMTTYPE=image/png:https://thecrafthousetemecula.com/wp-content/uploads/2026/02/Featured-Experience-1.png
END:VEVENT
BEGIN:VEVENT
DTSTART;TZID=UTC:20260220T120000
DTEND;TZID=UTC:20260220T173000
DTSTAMP:20260421T154802
CREATED:20260204T234448Z
LAST-MODIFIED:20260204T234448Z
UID:20567-1771588800-1771608600@thecrafthousetemecula.com
SUMMARY:Hat Bar Experience
DESCRIPTION:Available Thursdays & Fridays Only \nCustomize a hat with curated embellishments and styling assistance. \nIncludes a hat (variety of colors available) and one embellishment.Additional upgrades available. \nLimited availability each day; walk-ins welcome.
URL:https://thecrafthousetemecula.com/calendar/hat-bar-experience/2026-02-20/
LOCATION:The Craft House Temecula\, 32123 Temecula Parkway\, Suite A\, Temecula\, CA\, 92592\, United States
ATTACH;FMTTYPE=image/jpeg:https://thecrafthousetemecula.com/wp-content/uploads/2026/02/IMG_8805-scaled.jpeg
END:VEVENT
BEGIN:VEVENT
DTSTART;TZID=UTC:20260219T120000
DTEND;TZID=UTC:20260219T173000
DTSTAMP:20260421T154802
CREATED:20260204T234448Z
LAST-MODIFIED:20260204T234448Z
UID:20566-1771502400-1771522200@thecrafthousetemecula.com
SUMMARY:Hat Bar Experience
DESCRIPTION:Available Thursdays & Fridays Only \nCustomize a hat with curated embellishments and styling assistance. \nIncludes a hat (variety of colors available) and one embellishment.Additional upgrades available. \nLimited availability each day; walk-ins welcome.
URL:https://thecrafthousetemecula.com/calendar/hat-bar-experience/2026-02-19/
LOCATION:The Craft House Temecula\, 32123 Temecula Parkway\, Suite A\, Temecula\, CA\, 92592\, United States
ATTACH;FMTTYPE=image/jpeg:https://thecrafthousetemecula.com/wp-content/uploads/2026/02/IMG_8805-scaled.jpeg
END:VEVENT
BEGIN:VEVENT
DTSTART;TZID=UTC:20260213T180000
DTEND;TZID=UTC:20260213T200000
DTSTAMP:20260421T154802
CREATED:20260121T182750Z
LAST-MODIFIED:20260212T025322Z
UID:20067-1771005600-1771012800@thecrafthousetemecula.com
SUMMARY:Galentine's Candy Hearts Paint and Sip
DESCRIPTION:Celebrate friendship\, creativity\, and a little mid-February fun at our “Galentine’s Candy Hearts Paint & Sip*”! \nJoin us on Friday\, February 13 at 6:00 PM for a colorful\, feel-good evening designed just for you and your favorite people. This guided paint class features a playful candy-heart inspired design\, perfect for a girls’ night out\, bestie date\, or a creative way to kick off Valentine’s weekend. \nNo painting experience needed—our instructor will walk you through each step\, so you can relax\, sip\, and enjoy the process. All supplies are included\, along with light refreshments to keep the good vibes flowing. \nCome solo\, bring your bestie\, or round up the whole crew—this is your sign to celebrate friendship and make something sweet together. \nIncludes:\n• Guided paint class\n• All paint supplies\n• Light refreshments (BYOB friendly) \nSpaces are limited\, so grab your seat and let’s paint\, sip\, and celebrate Galentine’s Day in style. \nCancellation policy: There are NO refunds for workshops; full credit will be given towards a future class if cancellation is provided 7 days in advance. Last-minute cancellations will forfeit any credit. 
URL:https://thecrafthousetemecula.com/calendar/galentines-candy-hearts-paint-and-sip/
LOCATION:The Craft House Temecula\, 32123 Temecula Parkway\, Suite A\, Temecula\, CA\, 92592\, United States
CATEGORIES:Paint Class
ATTACH;FMTTYPE=image/png:https://thecrafthousetemecula.com/wp-content/uploads/2026/01/GALENTINES-PAINT-AND-SIP.png
END:VEVENT
BEGIN:VEVENT
DTSTART;TZID=UTC:20260213T120000
DTEND;TZID=UTC:20260213T173000
DTSTAMP:20260421T154802
CREATED:20260204T234448Z
LAST-MODIFIED:20260204T234448Z
UID:20565-1770984000-1771003800@thecrafthousetemecula.com
SUMMARY:Hat Bar Experience
DESCRIPTION:Available Thursdays & Fridays Only \nCustomize a hat with curated embellishments and styling assistance. \nIncludes a hat (variety of colors available) and one embellishment.Additional upgrades available. \nLimited availability each day; walk-ins welcome.
URL:https://thecrafthousetemecula.com/calendar/hat-bar-experience/2026-02-13/
LOCATION:The Craft House Temecula\, 32123 Temecula Parkway\, Suite A\, Temecula\, CA\, 92592\, United States
ATTACH;FMTTYPE=image/jpeg:https://thecrafthousetemecula.com/wp-content/uploads/2026/02/IMG_8805-scaled.jpeg
END:VEVENT
BEGIN:VEVENT
DTSTART;TZID=UTC:20260212T120000
DTEND;TZID=UTC:20260212T173000
DTSTAMP:20260421T154802
CREATED:20260204T234448Z
LAST-MODIFIED:20260204T234448Z
UID:20564-1770897600-1770917400@thecrafthousetemecula.com
SUMMARY:Hat Bar Experience
DESCRIPTION:Available Thursdays & Fridays Only \nCustomize a hat with curated embellishments and styling assistance. \nIncludes a hat (variety of colors available) and one embellishment.Additional upgrades available. \nLimited availability each day; walk-ins welcome.
URL:https://thecrafthousetemecula.com/calendar/hat-bar-experience/2026-02-12/
LOCATION:The Craft House Temecula\, 32123 Temecula Parkway\, Suite A\, Temecula\, CA\, 92592\, United States
ATTACH;FMTTYPE=image/jpeg:https://thecrafthousetemecula.com/wp-content/uploads/2026/02/IMG_8805-scaled.jpeg
END:VEVENT
BEGIN:VEVENT
DTSTART;TZID=UTC:20260211T120000
DTEND;TZID=UTC:20260211T170000
DTSTAMP:20260421T154802
CREATED:20260204T235220Z
LAST-MODIFIED:20260204T235220Z
UID:20321-1770811200-1770829200@thecrafthousetemecula.com
SUMMARY:Pressed Flower Frame Experience
DESCRIPTION:Available alternating Wednesdays.  \nDesign a botanical keepsake using curated pressed flowers and a modern frame. \nA calm\, elevated project that pairs beautifully with our Candle Bar. \nLimited availability; walk-ins welcome.
URL:https://thecrafthousetemecula.com/calendar/pressed-flower-frame-experience/2026-02-11/
LOCATION:The Craft House Temecula\, 32123 Temecula Parkway\, Suite A\, Temecula\, CA\, 92592\, United States
ATTACH;FMTTYPE=image/jpeg:https://thecrafthousetemecula.com/wp-content/uploads/2026/02/IMG_0867-scaled.jpeg
END:VEVENT
BEGIN:VEVENT
DTSTART;TZID=UTC:20260207T170000
DTEND;TZID=UTC:20260207T183000
DTSTAMP:20260421T154802
CREATED:20260121T055206Z
LAST-MODIFIED:20260121T055206Z
UID:20057-1770483600-1770489000@thecrafthousetemecula.com
SUMMARY:Pressed Flower Heart Frames
DESCRIPTION:A Valentine Keepsake That Lasts \nCreate something truly special this Valentine’s season. In this workshop\, you’ll design a pressed flower heart using real pressed florals arranged in a floating glass frame (bring your favorite photo to make it extra special). \nThis relaxed class is perfect for anyone who loves thoughtful\, handmade décor. \nSaturday\, February 7 | 5 PMAll supplies includedLight refreshments served; BYOB friendly \nCouples may work on this project together; additional ticket is not required. \nCancellation policy: There are NO refunds for workshops; full credit will be given towards a future class if cancellation is provided 7 days in advance. Last-minute cancellations will forfeit any credit. 
URL:https://thecrafthousetemecula.com/calendar/pressed-flower-heart-frames/
LOCATION:The Craft House Temecula\, 32123 Temecula Parkway\, Suite A\, Temecula\, CA\, 92592\, United States
CATEGORIES:Creative Workshop
ATTACH;FMTTYPE=image/png:https://thecrafthousetemecula.com/wp-content/uploads/2026/01/Pressed-Flower-Heart-Frame.png
END:VEVENT
BEGIN:VEVENT
DTSTART;TZID=UTC:20260206T120000
DTEND;TZID=UTC:20260206T173000
DTSTAMP:20260421T154802
CREATED:20260204T234448Z
LAST-MODIFIED:20260204T234448Z
UID:20563-1770379200-1770399000@thecrafthousetemecula.com
SUMMARY:Hat Bar Experience
DESCRIPTION:Available Thursdays & Fridays Only \nCustomize a hat with curated embellishments and styling assistance. \nIncludes a hat (variety of colors available) and one embellishment.Additional upgrades available. \nLimited availability each day; walk-ins welcome.
URL:https://thecrafthousetemecula.com/calendar/hat-bar-experience/2026-02-06/
LOCATION:The Craft House Temecula\, 32123 Temecula Parkway\, Suite A\, Temecula\, CA\, 92592\, United States
ATTACH;FMTTYPE=image/jpeg:https://thecrafthousetemecula.com/wp-content/uploads/2026/02/IMG_8805-scaled.jpeg
END:VEVENT
BEGIN:VEVENT
DTSTART;TZID=UTC:20260205T120000
DTEND;TZID=UTC:20260205T173000
DTSTAMP:20260421T154802
CREATED:20260204T234448Z
LAST-MODIFIED:20260206T211616Z
UID:20224-1770292800-1770312600@thecrafthousetemecula.com
SUMMARY:Hat Bar Experience
DESCRIPTION:Available Thursdays & Fridays Only \nCustomize a hat with curated embellishments and styling assistance. \nIncludes a hat (variety of colors available) and one embellishment.Additional upgrades available. \nLimited availability each day; walk-ins welcome.
URL:https://thecrafthousetemecula.com/calendar/hat-bar-experience/2026-02-05/
LOCATION:The Craft House Temecula\, 32123 Temecula Parkway\, Suite A\, Temecula\, CA\, 92592\, United States
ATTACH;FMTTYPE=image/jpeg:https://thecrafthousetemecula.com/wp-content/uploads/2026/02/IMG_8805-scaled.jpeg
END:VEVENT
BEGIN:VEVENT
DTSTART;TZID=UTC:20260204T173000
DTEND;TZID=UTC:20260204T200000
DTSTAMP:20260421T154802
CREATED:20260108T222713Z
LAST-MODIFIED:20260108T222713Z
UID:19879-1770226200-1770235200@thecrafthousetemecula.com
SUMMARY:Script & Seal Valentine's Workshop
DESCRIPTION:Script & Seal Workshop\nDiscover the magic of timeless elegance at our Valentine’s Script & Seal Workshop\, a hands-on experience that blends romance\, artistry\, and modern charm. Join Melissa (@signedby_melissa) and Katie (@freebeecreates) to learn modern calligraphy and craft custom wax seals that add a heartfelt touch to every love note\, card\, and keepsake. Perfect for beginners and seasoned creatives alike\, this class gives you everything needed to create stunning\, personalized pieces for the season of love. \nSip & Shop | 5:30–6:00 PM \nArrive early to enjoy a relaxed “sip & shop” at our venue\, The Craft House Temecula\, a charming historic space filled with DIY craft experiences and locally made artisan goods. Event ticket includes a variety of light bites\, sweet treats and beverages. Handcrafted and curated gifts\, goods and wears available for purchase. \nWorkshop | 6:00–8:00 PM \nDuring this 2-hour Valentine-inspired workshop\, you’ll enjoy: \n• 1 Hour of Modern Calligraphy Instruction\nLearn brush-lettering basics using a Tombow Fudenosuke Brush Pen (yours to keep) \n• 1 Hour of Wax Seal Instruction\nCreate luxe wax seals perfect for Valentine’s cards\, gifting\, and décor \n• Two Handcrafted Wax Seal Duos made by Katie\n• One Dozen Wax Seals you’ll create yourself\n• Calligraphy Letter Guides + Tracing Paper\n• A Variety of Custom Gift Tags to personalize and take home \nSlow down\, sip something sweet\, and create meaningful pieces that celebrate love\, creativity\, and connection.  Feel free to bring a friend\, partner or come alone and meet new creative friends! Space is very limited\, reserve your seat today! \nBYOB-friendly \nFollow our collaborators for inspiration:\n@SignedBy_Melissa\n@FreeBeeCreates \nPlease note: This workshop involves heating elements and precision motor skills. Recommended for ages 16+.
URL:https://thecrafthousetemecula.com/calendar/script-seal-valentines-workshop/
LOCATION:The Craft House Temecula\, 32123 Temecula Parkway\, Suite A\, Temecula\, CA\, 92592\, United States
CATEGORIES:Creative Workshop,Special Event
ATTACH;FMTTYPE=image/png:https://thecrafthousetemecula.com/wp-content/uploads/2026/01/Script-Seal.png
END:VEVENT
BEGIN:VEVENT
DTSTART;TZID=UTC:20260203T180000
DTEND;TZID=UTC:20260203T203000
DTSTAMP:20260421T154802
CREATED:20260117T175301Z
LAST-MODIFIED:20260117T175301Z
UID:19975-1770141600-1770150600@thecrafthousetemecula.com
SUMMARY:Valentine's Paint & Sip at Ronis West Restaurant
DESCRIPTION:Join us for a creative night out at Ronis West Restaurant in Murrieta! This guided paint class is perfect for a fun date night\, girls’ night\, or just an excuse to unwind midweek. No experience needed—our instructor will walk you through the entire painting step by step. \nYour ticket includes all painting supplies\, a delicious buffet-style dinner\, and one glass of featured wine or beer. Come hungry\, get creative\, and enjoy a relaxed evening filled with good food\, great drinks\, and even better company. \nDate: Tuesday\, February 3Time: 6:00 PMLocation: Ronis West RestaurantTicket: $50 per personIncludes paint class\, buffet dinner\, and one glass of featured wine or beer.
URL:https://thecrafthousetemecula.com/calendar/valentines-paint-sip-at-ronis-west-restaurant/
LOCATION:The Craft House Temecula\, 32123 Temecula Parkway\, Suite A\, Temecula\, CA\, 92592\, United States
CATEGORIES:"Paint the Town" Mobile Event,Paint Class
ATTACH;FMTTYPE=image/png:https://thecrafthousetemecula.com/wp-content/uploads/2026/01/2-2.png
END:VEVENT
BEGIN:VEVENT
DTSTART;TZID=UTC:20260201T160000
DTEND;TZID=UTC:20260201T173000
DTSTAMP:20260421T154802
CREATED:20260121T055726Z
LAST-MODIFIED:20260130T192433Z
UID:20063-1769961600-1769967000@thecrafthousetemecula.com
SUMMARY:Valentine Candle Making: Love Notes Edition
DESCRIPTION:Pour Something Sweet Valentine Candle Bar \nCelebrate Valentine’s season with a cozy\, creative night at The Craft House. Our Love Notes Candle Bar lets you blend your own custom candle using exclusive Valentine-inspired scents and toppings. \nWhether you’re planning a date night\, a Galentine’s outing\, or a little self-care\, this relaxed workshop is the perfect way to unwind and create something meaningful. \n\nSunday\, February 01 | 4:00 pm – 5:30 pm\nOne custom candle included\nOptional personalized label add-on\nLight refreshments provided\nBYOB-friendly\n\nSeats are limited—reserve your spot early.
URL:https://thecrafthousetemecula.com/calendar/valentine-candle-bar-love-notes-edition/
LOCATION:The Craft House Temecula\, 32123 Temecula Parkway\, Suite A\, Temecula\, CA\, 92592\, United States
CATEGORIES:Creative Workshop
ATTACH;FMTTYPE=image/png:https://thecrafthousetemecula.com/wp-content/uploads/2026/01/Valentines-Candle-Making-2.png
END:VEVENT
END:VCALENDAR