BEGIN:VCALENDAR
VERSION:2.0
PRODID:-//The Craft House Temecula - ECPv6.15.20//NONSGML v1.0//EN
CALSCALE:GREGORIAN
METHOD:PUBLISH
X-ORIGINAL-URL:https://thecrafthousetemecula.com
X-WR-CALDESC:Events for The Craft House Temecula
REFRESH-INTERVAL;VALUE=DURATION:PT1H
X-Robots-Tag:noindex
X-PUBLISHED-TTL:PT1H
BEGIN:VTIMEZONE
TZID:UTC
BEGIN:STANDARD
TZOFFSETFROM:+0000
TZOFFSETTO:+0000
TZNAME:UTC
DTSTART:20250101T000000
END:STANDARD
END:VTIMEZONE
BEGIN:VEVENT
DTSTART;TZID=UTC:20260509T150000
DTEND;TZID=UTC:20260509T170000
DTSTAMP:20260419T132923
CREATED:20260415T205541Z
LAST-MODIFIED:20260415T205611Z
UID:21477-1778338800-1778346000@thecrafthousetemecula.com
SUMMARY:Sips and Succulents: A Mother’s Day Workshop at Bare Knuckle Brewing Co.
DESCRIPTION:Celebrate Mom with a relaxed\, creative experience designed for connection\, not chaos. Join us at Bare Knuckle Brewing Co. for a guided succulent workshop paired with your favorite drink. \nWhat’s Included:\n• One handcrafted succulent planter (3–5 plants)\n• Decorative moss + stone accents + paint and stain\n• Step-by-step guided instruction\n• One drink (beer\, cider\, or wine) \nEvent Details:\n📅 Saturday\, May 9\, 2026\n⏰ 3:00 PM – 5:00 PM\n📍 Bare Knuckle Brewing Co.\, Temecula \nUpgrades Available On-Site:\n• Extra succulents \nLimited seats available. Weekend experiences fill quickly.
URL:https://thecrafthousetemecula.com/calendar/sips-and-succulents-a-mothers-day-workshop-at-bare-knuckle-brewing-co/
LOCATION:Bare Knuckle Brewing Co.\, 32125 Temecula Parkway\, C\, 92592\, United States
ATTACH;FMTTYPE=image/png:https://thecrafthousetemecula.com/wp-content/uploads/2026/04/Succulent-Workshop.png
END:VEVENT
END:VCALENDAR