BEGIN:VCALENDAR
VERSION:2.0
PRODID:-//The Craft House Temecula - ECPv6.15.20//NONSGML v1.0//EN
CALSCALE:GREGORIAN
METHOD:PUBLISH
X-WR-CALNAME:The Craft House Temecula
X-ORIGINAL-URL:https://thecrafthousetemecula.com
X-WR-CALDESC:Events for The Craft House Temecula
REFRESH-INTERVAL;VALUE=DURATION:PT1H
X-Robots-Tag:noindex
X-PUBLISHED-TTL:PT1H
BEGIN:VTIMEZONE
TZID:UTC
BEGIN:STANDARD
TZOFFSETFROM:+0000
TZOFFSETTO:+0000
TZNAME:UTC
DTSTART:20250101T000000
END:STANDARD
END:VTIMEZONE
BEGIN:VEVENT
DTSTART;TZID=UTC:20261029T120000
DTEND;TZID=UTC:20261029T173000
DTSTAMP:20260419T173426
CREATED:20260204T234448Z
LAST-MODIFIED:20260204T234448Z
UID:20638-1793275200-1793295000@thecrafthousetemecula.com
SUMMARY:Hat Bar Experience
DESCRIPTION:Available Thursdays & Fridays Only \nCustomize a hat with curated embellishments and styling assistance. \nIncludes a hat (variety of colors available) and one embellishment.Additional upgrades available. \nLimited availability each day; walk-ins welcome.
URL:https://thecrafthousetemecula.com/calendar/hat-bar-experience/2026-10-29/
LOCATION:The Craft House Temecula\, 32123 Temecula Parkway\, Suite A\, Temecula\, CA\, 92592\, United States
ATTACH;FMTTYPE=image/jpeg:https://thecrafthousetemecula.com/wp-content/uploads/2026/02/IMG_8805-scaled.jpeg
END:VEVENT
BEGIN:VEVENT
DTSTART;TZID=UTC:20261030T120000
DTEND;TZID=UTC:20261030T173000
DTSTAMP:20260419T173426
CREATED:20260204T234448Z
LAST-MODIFIED:20260204T234448Z
UID:20639-1793361600-1793381400@thecrafthousetemecula.com
SUMMARY:Hat Bar Experience
DESCRIPTION:Available Thursdays & Fridays Only \nCustomize a hat with curated embellishments and styling assistance. \nIncludes a hat (variety of colors available) and one embellishment.Additional upgrades available. \nLimited availability each day; walk-ins welcome.
URL:https://thecrafthousetemecula.com/calendar/hat-bar-experience/2026-10-30/
LOCATION:The Craft House Temecula\, 32123 Temecula Parkway\, Suite A\, Temecula\, CA\, 92592\, United States
ATTACH;FMTTYPE=image/jpeg:https://thecrafthousetemecula.com/wp-content/uploads/2026/02/IMG_8805-scaled.jpeg
END:VEVENT
BEGIN:VEVENT
DTSTART;TZID=UTC:20261104T120000
DTEND;TZID=UTC:20261104T170000
DTSTAMP:20260419T173426
CREATED:20260204T235220Z
LAST-MODIFIED:20260204T235220Z
UID:20342-1793793600-1793811600@thecrafthousetemecula.com
SUMMARY:Pressed Flower Frame Experience
DESCRIPTION:Available alternating Wednesdays.  \nDesign a botanical keepsake using curated pressed flowers and a modern frame. \nA calm\, elevated project that pairs beautifully with our Candle Bar. \nLimited availability; walk-ins welcome.
URL:https://thecrafthousetemecula.com/calendar/pressed-flower-frame-experience/2026-11-04/
LOCATION:The Craft House Temecula\, 32123 Temecula Parkway\, Suite A\, Temecula\, CA\, 92592\, United States
ATTACH;FMTTYPE=image/jpeg:https://thecrafthousetemecula.com/wp-content/uploads/2026/02/IMG_0867-scaled.jpeg
END:VEVENT
BEGIN:VEVENT
DTSTART;TZID=UTC:20261105T120000
DTEND;TZID=UTC:20261105T173000
DTSTAMP:20260419T173426
CREATED:20260204T234448Z
LAST-MODIFIED:20260204T234448Z
UID:20640-1793880000-1793899800@thecrafthousetemecula.com
SUMMARY:Hat Bar Experience
DESCRIPTION:Available Thursdays & Fridays Only \nCustomize a hat with curated embellishments and styling assistance. \nIncludes a hat (variety of colors available) and one embellishment.Additional upgrades available. \nLimited availability each day; walk-ins welcome.
URL:https://thecrafthousetemecula.com/calendar/hat-bar-experience/2026-11-05/
LOCATION:The Craft House Temecula\, 32123 Temecula Parkway\, Suite A\, Temecula\, CA\, 92592\, United States
ATTACH;FMTTYPE=image/jpeg:https://thecrafthousetemecula.com/wp-content/uploads/2026/02/IMG_8805-scaled.jpeg
END:VEVENT
BEGIN:VEVENT
DTSTART;TZID=UTC:20261106T120000
DTEND;TZID=UTC:20261106T173000
DTSTAMP:20260419T173426
CREATED:20260204T234448Z
LAST-MODIFIED:20260204T234448Z
UID:20641-1793966400-1793986200@thecrafthousetemecula.com
SUMMARY:Hat Bar Experience
DESCRIPTION:Available Thursdays & Fridays Only \nCustomize a hat with curated embellishments and styling assistance. \nIncludes a hat (variety of colors available) and one embellishment.Additional upgrades available. \nLimited availability each day; walk-ins welcome.
URL:https://thecrafthousetemecula.com/calendar/hat-bar-experience/2026-11-06/
LOCATION:The Craft House Temecula\, 32123 Temecula Parkway\, Suite A\, Temecula\, CA\, 92592\, United States
ATTACH;FMTTYPE=image/jpeg:https://thecrafthousetemecula.com/wp-content/uploads/2026/02/IMG_8805-scaled.jpeg
END:VEVENT
BEGIN:VEVENT
DTSTART;TZID=UTC:20261112T120000
DTEND;TZID=UTC:20261112T173000
DTSTAMP:20260419T173426
CREATED:20260204T234448Z
LAST-MODIFIED:20260204T234448Z
UID:20642-1794484800-1794504600@thecrafthousetemecula.com
SUMMARY:Hat Bar Experience
DESCRIPTION:Available Thursdays & Fridays Only \nCustomize a hat with curated embellishments and styling assistance. \nIncludes a hat (variety of colors available) and one embellishment.Additional upgrades available. \nLimited availability each day; walk-ins welcome.
URL:https://thecrafthousetemecula.com/calendar/hat-bar-experience/2026-11-12/
LOCATION:The Craft House Temecula\, 32123 Temecula Parkway\, Suite A\, Temecula\, CA\, 92592\, United States
ATTACH;FMTTYPE=image/jpeg:https://thecrafthousetemecula.com/wp-content/uploads/2026/02/IMG_8805-scaled.jpeg
END:VEVENT
BEGIN:VEVENT
DTSTART;TZID=UTC:20261113T120000
DTEND;TZID=UTC:20261113T173000
DTSTAMP:20260419T173426
CREATED:20260204T234448Z
LAST-MODIFIED:20260204T234448Z
UID:20643-1794571200-1794591000@thecrafthousetemecula.com
SUMMARY:Hat Bar Experience
DESCRIPTION:Available Thursdays & Fridays Only \nCustomize a hat with curated embellishments and styling assistance. \nIncludes a hat (variety of colors available) and one embellishment.Additional upgrades available. \nLimited availability each day; walk-ins welcome.
URL:https://thecrafthousetemecula.com/calendar/hat-bar-experience/2026-11-13/
LOCATION:The Craft House Temecula\, 32123 Temecula Parkway\, Suite A\, Temecula\, CA\, 92592\, United States
ATTACH;FMTTYPE=image/jpeg:https://thecrafthousetemecula.com/wp-content/uploads/2026/02/IMG_8805-scaled.jpeg
END:VEVENT
BEGIN:VEVENT
DTSTART;TZID=UTC:20261118T120000
DTEND;TZID=UTC:20261118T170000
DTSTAMP:20260419T173426
CREATED:20260204T235220Z
LAST-MODIFIED:20260204T235220Z
UID:20343-1795003200-1795021200@thecrafthousetemecula.com
SUMMARY:Pressed Flower Frame Experience
DESCRIPTION:Available alternating Wednesdays.  \nDesign a botanical keepsake using curated pressed flowers and a modern frame. \nA calm\, elevated project that pairs beautifully with our Candle Bar. \nLimited availability; walk-ins welcome.
URL:https://thecrafthousetemecula.com/calendar/pressed-flower-frame-experience/2026-11-18/
LOCATION:The Craft House Temecula\, 32123 Temecula Parkway\, Suite A\, Temecula\, CA\, 92592\, United States
ATTACH;FMTTYPE=image/jpeg:https://thecrafthousetemecula.com/wp-content/uploads/2026/02/IMG_0867-scaled.jpeg
END:VEVENT
BEGIN:VEVENT
DTSTART;TZID=UTC:20261119T120000
DTEND;TZID=UTC:20261119T173000
DTSTAMP:20260419T173426
CREATED:20260204T234448Z
LAST-MODIFIED:20260204T234448Z
UID:20644-1795089600-1795109400@thecrafthousetemecula.com
SUMMARY:Hat Bar Experience
DESCRIPTION:Available Thursdays & Fridays Only \nCustomize a hat with curated embellishments and styling assistance. \nIncludes a hat (variety of colors available) and one embellishment.Additional upgrades available. \nLimited availability each day; walk-ins welcome.
URL:https://thecrafthousetemecula.com/calendar/hat-bar-experience/2026-11-19/
LOCATION:The Craft House Temecula\, 32123 Temecula Parkway\, Suite A\, Temecula\, CA\, 92592\, United States
ATTACH;FMTTYPE=image/jpeg:https://thecrafthousetemecula.com/wp-content/uploads/2026/02/IMG_8805-scaled.jpeg
END:VEVENT
BEGIN:VEVENT
DTSTART;TZID=UTC:20261120T120000
DTEND;TZID=UTC:20261120T173000
DTSTAMP:20260419T173426
CREATED:20260204T234448Z
LAST-MODIFIED:20260204T234448Z
UID:20645-1795176000-1795195800@thecrafthousetemecula.com
SUMMARY:Hat Bar Experience
DESCRIPTION:Available Thursdays & Fridays Only \nCustomize a hat with curated embellishments and styling assistance. \nIncludes a hat (variety of colors available) and one embellishment.Additional upgrades available. \nLimited availability each day; walk-ins welcome.
URL:https://thecrafthousetemecula.com/calendar/hat-bar-experience/2026-11-20/
LOCATION:The Craft House Temecula\, 32123 Temecula Parkway\, Suite A\, Temecula\, CA\, 92592\, United States
ATTACH;FMTTYPE=image/jpeg:https://thecrafthousetemecula.com/wp-content/uploads/2026/02/IMG_8805-scaled.jpeg
END:VEVENT
BEGIN:VEVENT
DTSTART;TZID=UTC:20261126T120000
DTEND;TZID=UTC:20261126T173000
DTSTAMP:20260419T173426
CREATED:20260204T234448Z
LAST-MODIFIED:20260204T234448Z
UID:20646-1795694400-1795714200@thecrafthousetemecula.com
SUMMARY:Hat Bar Experience
DESCRIPTION:Available Thursdays & Fridays Only \nCustomize a hat with curated embellishments and styling assistance. \nIncludes a hat (variety of colors available) and one embellishment.Additional upgrades available. \nLimited availability each day; walk-ins welcome.
URL:https://thecrafthousetemecula.com/calendar/hat-bar-experience/2026-11-26/
LOCATION:The Craft House Temecula\, 32123 Temecula Parkway\, Suite A\, Temecula\, CA\, 92592\, United States
ATTACH;FMTTYPE=image/jpeg:https://thecrafthousetemecula.com/wp-content/uploads/2026/02/IMG_8805-scaled.jpeg
END:VEVENT
BEGIN:VEVENT
DTSTART;TZID=UTC:20261127T120000
DTEND;TZID=UTC:20261127T173000
DTSTAMP:20260419T173426
CREATED:20260204T234448Z
LAST-MODIFIED:20260204T234448Z
UID:20647-1795780800-1795800600@thecrafthousetemecula.com
SUMMARY:Hat Bar Experience
DESCRIPTION:Available Thursdays & Fridays Only \nCustomize a hat with curated embellishments and styling assistance. \nIncludes a hat (variety of colors available) and one embellishment.Additional upgrades available. \nLimited availability each day; walk-ins welcome.
URL:https://thecrafthousetemecula.com/calendar/hat-bar-experience/2026-11-27/
LOCATION:The Craft House Temecula\, 32123 Temecula Parkway\, Suite A\, Temecula\, CA\, 92592\, United States
ATTACH;FMTTYPE=image/jpeg:https://thecrafthousetemecula.com/wp-content/uploads/2026/02/IMG_8805-scaled.jpeg
END:VEVENT
BEGIN:VEVENT
DTSTART;TZID=UTC:20261202T120000
DTEND;TZID=UTC:20261202T170000
DTSTAMP:20260419T173426
CREATED:20260204T235220Z
LAST-MODIFIED:20260204T235220Z
UID:20344-1796212800-1796230800@thecrafthousetemecula.com
SUMMARY:Pressed Flower Frame Experience
DESCRIPTION:Available alternating Wednesdays.  \nDesign a botanical keepsake using curated pressed flowers and a modern frame. \nA calm\, elevated project that pairs beautifully with our Candle Bar. \nLimited availability; walk-ins welcome.
URL:https://thecrafthousetemecula.com/calendar/pressed-flower-frame-experience/2026-12-02/
LOCATION:The Craft House Temecula\, 32123 Temecula Parkway\, Suite A\, Temecula\, CA\, 92592\, United States
ATTACH;FMTTYPE=image/jpeg:https://thecrafthousetemecula.com/wp-content/uploads/2026/02/IMG_0867-scaled.jpeg
END:VEVENT
BEGIN:VEVENT
DTSTART;TZID=UTC:20261203T120000
DTEND;TZID=UTC:20261203T173000
DTSTAMP:20260419T173426
CREATED:20260204T234448Z
LAST-MODIFIED:20260204T234448Z
UID:20648-1796299200-1796319000@thecrafthousetemecula.com
SUMMARY:Hat Bar Experience
DESCRIPTION:Available Thursdays & Fridays Only \nCustomize a hat with curated embellishments and styling assistance. \nIncludes a hat (variety of colors available) and one embellishment.Additional upgrades available. \nLimited availability each day; walk-ins welcome.
URL:https://thecrafthousetemecula.com/calendar/hat-bar-experience/2026-12-03/
LOCATION:The Craft House Temecula\, 32123 Temecula Parkway\, Suite A\, Temecula\, CA\, 92592\, United States
ATTACH;FMTTYPE=image/jpeg:https://thecrafthousetemecula.com/wp-content/uploads/2026/02/IMG_8805-scaled.jpeg
END:VEVENT
BEGIN:VEVENT
DTSTART;TZID=UTC:20261204T120000
DTEND;TZID=UTC:20261204T173000
DTSTAMP:20260419T173426
CREATED:20260204T234448Z
LAST-MODIFIED:20260204T234448Z
UID:20649-1796385600-1796405400@thecrafthousetemecula.com
SUMMARY:Hat Bar Experience
DESCRIPTION:Available Thursdays & Fridays Only \nCustomize a hat with curated embellishments and styling assistance. \nIncludes a hat (variety of colors available) and one embellishment.Additional upgrades available. \nLimited availability each day; walk-ins welcome.
URL:https://thecrafthousetemecula.com/calendar/hat-bar-experience/2026-12-04/
LOCATION:The Craft House Temecula\, 32123 Temecula Parkway\, Suite A\, Temecula\, CA\, 92592\, United States
ATTACH;FMTTYPE=image/jpeg:https://thecrafthousetemecula.com/wp-content/uploads/2026/02/IMG_8805-scaled.jpeg
END:VEVENT
BEGIN:VEVENT
DTSTART;TZID=UTC:20261210T120000
DTEND;TZID=UTC:20261210T173000
DTSTAMP:20260419T173426
CREATED:20260204T234448Z
LAST-MODIFIED:20260204T234448Z
UID:20650-1796904000-1796923800@thecrafthousetemecula.com
SUMMARY:Hat Bar Experience
DESCRIPTION:Available Thursdays & Fridays Only \nCustomize a hat with curated embellishments and styling assistance. \nIncludes a hat (variety of colors available) and one embellishment.Additional upgrades available. \nLimited availability each day; walk-ins welcome.
URL:https://thecrafthousetemecula.com/calendar/hat-bar-experience/2026-12-10/
LOCATION:The Craft House Temecula\, 32123 Temecula Parkway\, Suite A\, Temecula\, CA\, 92592\, United States
ATTACH;FMTTYPE=image/jpeg:https://thecrafthousetemecula.com/wp-content/uploads/2026/02/IMG_8805-scaled.jpeg
END:VEVENT
BEGIN:VEVENT
DTSTART;TZID=UTC:20261211T120000
DTEND;TZID=UTC:20261211T173000
DTSTAMP:20260419T173426
CREATED:20260204T234448Z
LAST-MODIFIED:20260204T234448Z
UID:20651-1796990400-1797010200@thecrafthousetemecula.com
SUMMARY:Hat Bar Experience
DESCRIPTION:Available Thursdays & Fridays Only \nCustomize a hat with curated embellishments and styling assistance. \nIncludes a hat (variety of colors available) and one embellishment.Additional upgrades available. \nLimited availability each day; walk-ins welcome.
URL:https://thecrafthousetemecula.com/calendar/hat-bar-experience/2026-12-11/
LOCATION:The Craft House Temecula\, 32123 Temecula Parkway\, Suite A\, Temecula\, CA\, 92592\, United States
ATTACH;FMTTYPE=image/jpeg:https://thecrafthousetemecula.com/wp-content/uploads/2026/02/IMG_8805-scaled.jpeg
END:VEVENT
BEGIN:VEVENT
DTSTART;TZID=UTC:20261216T120000
DTEND;TZID=UTC:20261216T170000
DTSTAMP:20260419T173426
CREATED:20260204T235220Z
LAST-MODIFIED:20260204T235220Z
UID:20345-1797422400-1797440400@thecrafthousetemecula.com
SUMMARY:Pressed Flower Frame Experience
DESCRIPTION:Available alternating Wednesdays.  \nDesign a botanical keepsake using curated pressed flowers and a modern frame. \nA calm\, elevated project that pairs beautifully with our Candle Bar. \nLimited availability; walk-ins welcome.
URL:https://thecrafthousetemecula.com/calendar/pressed-flower-frame-experience/2026-12-16/
LOCATION:The Craft House Temecula\, 32123 Temecula Parkway\, Suite A\, Temecula\, CA\, 92592\, United States
ATTACH;FMTTYPE=image/jpeg:https://thecrafthousetemecula.com/wp-content/uploads/2026/02/IMG_0867-scaled.jpeg
END:VEVENT
BEGIN:VEVENT
DTSTART;TZID=UTC:20261217T120000
DTEND;TZID=UTC:20261217T173000
DTSTAMP:20260419T173426
CREATED:20260204T234448Z
LAST-MODIFIED:20260204T234448Z
UID:20652-1797508800-1797528600@thecrafthousetemecula.com
SUMMARY:Hat Bar Experience
DESCRIPTION:Available Thursdays & Fridays Only \nCustomize a hat with curated embellishments and styling assistance. \nIncludes a hat (variety of colors available) and one embellishment.Additional upgrades available. \nLimited availability each day; walk-ins welcome.
URL:https://thecrafthousetemecula.com/calendar/hat-bar-experience/2026-12-17/
LOCATION:The Craft House Temecula\, 32123 Temecula Parkway\, Suite A\, Temecula\, CA\, 92592\, United States
ATTACH;FMTTYPE=image/jpeg:https://thecrafthousetemecula.com/wp-content/uploads/2026/02/IMG_8805-scaled.jpeg
END:VEVENT
BEGIN:VEVENT
DTSTART;TZID=UTC:20261218T120000
DTEND;TZID=UTC:20261218T173000
DTSTAMP:20260419T173426
CREATED:20260204T234448Z
LAST-MODIFIED:20260204T234448Z
UID:20653-1797595200-1797615000@thecrafthousetemecula.com
SUMMARY:Hat Bar Experience
DESCRIPTION:Available Thursdays & Fridays Only \nCustomize a hat with curated embellishments and styling assistance. \nIncludes a hat (variety of colors available) and one embellishment.Additional upgrades available. \nLimited availability each day; walk-ins welcome.
URL:https://thecrafthousetemecula.com/calendar/hat-bar-experience/2026-12-18/
LOCATION:The Craft House Temecula\, 32123 Temecula Parkway\, Suite A\, Temecula\, CA\, 92592\, United States
ATTACH;FMTTYPE=image/jpeg:https://thecrafthousetemecula.com/wp-content/uploads/2026/02/IMG_8805-scaled.jpeg
END:VEVENT
BEGIN:VEVENT
DTSTART;TZID=UTC:20261224T120000
DTEND;TZID=UTC:20261224T173000
DTSTAMP:20260419T173426
CREATED:20260204T234448Z
LAST-MODIFIED:20260204T234448Z
UID:20654-1798113600-1798133400@thecrafthousetemecula.com
SUMMARY:Hat Bar Experience
DESCRIPTION:Available Thursdays & Fridays Only \nCustomize a hat with curated embellishments and styling assistance. \nIncludes a hat (variety of colors available) and one embellishment.Additional upgrades available. \nLimited availability each day; walk-ins welcome.
URL:https://thecrafthousetemecula.com/calendar/hat-bar-experience/2026-12-24/
LOCATION:The Craft House Temecula\, 32123 Temecula Parkway\, Suite A\, Temecula\, CA\, 92592\, United States
ATTACH;FMTTYPE=image/jpeg:https://thecrafthousetemecula.com/wp-content/uploads/2026/02/IMG_8805-scaled.jpeg
END:VEVENT
BEGIN:VEVENT
DTSTART;TZID=UTC:20261225T120000
DTEND;TZID=UTC:20261225T173000
DTSTAMP:20260419T173426
CREATED:20260204T234448Z
LAST-MODIFIED:20260204T234448Z
UID:20655-1798200000-1798219800@thecrafthousetemecula.com
SUMMARY:Hat Bar Experience
DESCRIPTION:Available Thursdays & Fridays Only \nCustomize a hat with curated embellishments and styling assistance. \nIncludes a hat (variety of colors available) and one embellishment.Additional upgrades available. \nLimited availability each day; walk-ins welcome.
URL:https://thecrafthousetemecula.com/calendar/hat-bar-experience/2026-12-25/
LOCATION:The Craft House Temecula\, 32123 Temecula Parkway\, Suite A\, Temecula\, CA\, 92592\, United States
ATTACH;FMTTYPE=image/jpeg:https://thecrafthousetemecula.com/wp-content/uploads/2026/02/IMG_8805-scaled.jpeg
END:VEVENT
BEGIN:VEVENT
DTSTART;TZID=UTC:20261230T120000
DTEND;TZID=UTC:20261230T170000
DTSTAMP:20260419T173426
CREATED:20260204T235220Z
LAST-MODIFIED:20260204T235220Z
UID:20346-1798632000-1798650000@thecrafthousetemecula.com
SUMMARY:Pressed Flower Frame Experience
DESCRIPTION:Available alternating Wednesdays.  \nDesign a botanical keepsake using curated pressed flowers and a modern frame. \nA calm\, elevated project that pairs beautifully with our Candle Bar. \nLimited availability; walk-ins welcome.
URL:https://thecrafthousetemecula.com/calendar/pressed-flower-frame-experience/2026-12-30/
LOCATION:The Craft House Temecula\, 32123 Temecula Parkway\, Suite A\, Temecula\, CA\, 92592\, United States
ATTACH;FMTTYPE=image/jpeg:https://thecrafthousetemecula.com/wp-content/uploads/2026/02/IMG_0867-scaled.jpeg
END:VEVENT
BEGIN:VEVENT
DTSTART;TZID=UTC:20261231T120000
DTEND;TZID=UTC:20261231T173000
DTSTAMP:20260419T173426
CREATED:20260204T234448Z
LAST-MODIFIED:20260204T234448Z
UID:20656-1798718400-1798738200@thecrafthousetemecula.com
SUMMARY:Hat Bar Experience
DESCRIPTION:Available Thursdays & Fridays Only \nCustomize a hat with curated embellishments and styling assistance. \nIncludes a hat (variety of colors available) and one embellishment.Additional upgrades available. \nLimited availability each day; walk-ins welcome.
URL:https://thecrafthousetemecula.com/calendar/hat-bar-experience/2026-12-31/
LOCATION:The Craft House Temecula\, 32123 Temecula Parkway\, Suite A\, Temecula\, CA\, 92592\, United States
ATTACH;FMTTYPE=image/jpeg:https://thecrafthousetemecula.com/wp-content/uploads/2026/02/IMG_8805-scaled.jpeg
END:VEVENT
END:VCALENDAR