BEGIN:VCALENDAR
VERSION:2.0
PRODID:-//The Craft House Temecula - ECPv6.15.20//NONSGML v1.0//EN
CALSCALE:GREGORIAN
METHOD:PUBLISH
X-WR-CALNAME:The Craft House Temecula
X-ORIGINAL-URL:https://thecrafthousetemecula.com
X-WR-CALDESC:Events for The Craft House Temecula
REFRESH-INTERVAL;VALUE=DURATION:PT1H
X-Robots-Tag:noindex
X-PUBLISHED-TTL:PT1H
BEGIN:VTIMEZONE
TZID:UTC
BEGIN:STANDARD
TZOFFSETFROM:+0000
TZOFFSETTO:+0000
TZNAME:UTC
DTSTART:20250101T000000
END:STANDARD
END:VTIMEZONE
BEGIN:VEVENT
DTSTART;VALUE=DATE:20260719
DTEND;VALUE=DATE:20260720
DTSTAMP:20260420T003057
CREATED:20260418T201619Z
LAST-MODIFIED:20260418T201619Z
UID:21519-1784419200-1784505599@thecrafthousetemecula.com
SUMMARY:Ultra Luxe Baby Shower Event
DESCRIPTION:
URL:https://thecrafthousetemecula.com/calendar/ultra-luxe-baby-shower-event/
CATEGORIES:Private Event
END:VEVENT
BEGIN:VEVENT
DTSTART;TZID=UTC:20260808T153000
DTEND;TZID=UTC:20260808T220000
DTSTAMP:20260420T003057
CREATED:20260204T225915Z
LAST-MODIFIED:20260204T225915Z
UID:20208-1786203000-1786226400@thecrafthousetemecula.com
SUMMARY:Private Event
DESCRIPTION:
URL:https://thecrafthousetemecula.com/calendar/private-event-12/
CATEGORIES:Private Event
ATTACH;FMTTYPE=image/png:https://thecrafthousetemecula.com/wp-content/uploads/2023/11/Private-Party-image.png
END:VEVENT
BEGIN:VEVENT
DTSTART;TZID=UTC:20260902T170000
DTEND;TZID=UTC:20260902T190000
DTSTAMP:20260420T003057
CREATED:20260418T202809Z
LAST-MODIFIED:20260418T202809Z
UID:21523-1788368400-1788375600@thecrafthousetemecula.com
SUMMARY:Private Paint Party
DESCRIPTION:
URL:https://thecrafthousetemecula.com/calendar/private-paint-party-16/
CATEGORIES:Private Event
END:VEVENT
END:VCALENDAR