BEGIN:VCALENDAR
VERSION:2.0
PRODID:-//The Craft House Temecula - ECPv6.15.20//NONSGML v1.0//EN
CALSCALE:GREGORIAN
METHOD:PUBLISH
X-WR-CALNAME:The Craft House Temecula
X-ORIGINAL-URL:https://thecrafthousetemecula.com
X-WR-CALDESC:Events for The Craft House Temecula
REFRESH-INTERVAL;VALUE=DURATION:PT1H
X-Robots-Tag:noindex
X-PUBLISHED-TTL:PT1H
BEGIN:VTIMEZONE
TZID:UTC
BEGIN:STANDARD
TZOFFSETFROM:+0000
TZOFFSETTO:+0000
TZNAME:UTC
DTSTART:20240101T000000
END:STANDARD
END:VTIMEZONE
BEGIN:VEVENT
DTSTART;TZID=UTC:20260214T110000
DTEND;TZID=UTC:20260214T160000
DTSTAMP:20260419T132607
CREATED:20260113T013834Z
LAST-MODIFIED:20260113T014027Z
UID:19648-1771066800-1771084800@thecrafthousetemecula.com
SUMMARY:Private Event
DESCRIPTION:
URL:https://thecrafthousetemecula.com/calendar/private-event-8/
CATEGORIES:Private Event
END:VEVENT
BEGIN:VEVENT
DTSTART;TZID=UTC:20260208T160000
DTEND;TZID=UTC:20260208T193000
DTSTAMP:20260419T132607
CREATED:20260204T230055Z
LAST-MODIFIED:20260204T230055Z
UID:20210-1770566400-1770579000@thecrafthousetemecula.com
SUMMARY:Private Craft Party
DESCRIPTION:
URL:https://thecrafthousetemecula.com/calendar/private-craft-party-2/
CATEGORIES:Private Event
ATTACH;FMTTYPE=image/png:https://thecrafthousetemecula.com/wp-content/uploads/2023/09/2.png
END:VEVENT
BEGIN:VEVENT
DTSTART;TZID=UTC:20260208T120000
DTEND;TZID=UTC:20260208T150000
DTSTAMP:20260419T132607
CREATED:20260113T012914Z
LAST-MODIFIED:20260113T012914Z
UID:19907-1770552000-1770562800@thecrafthousetemecula.com
SUMMARY:Private Craft pARTy
DESCRIPTION:
URL:https://thecrafthousetemecula.com/calendar/private-craft-party/
CATEGORIES:Private Event
END:VEVENT
BEGIN:VEVENT
DTSTART;TZID=UTC:20260207T110000
DTEND;TZID=UTC:20260207T140000
DTSTAMP:20260419T132607
CREATED:20251121T034957Z
LAST-MODIFIED:20251121T034957Z
UID:19407-1770462000-1770472800@thecrafthousetemecula.com
SUMMARY:Private Paint Party
DESCRIPTION:
URL:https://thecrafthousetemecula.com/calendar/private-paint-party-7/
CATEGORIES:Private Event
ATTACH;FMTTYPE=image/png:https://thecrafthousetemecula.com/wp-content/uploads/2023/09/2.png
END:VEVENT
BEGIN:VEVENT
DTSTART;TZID=UTC:20260201T103000
DTEND;TZID=UTC:20260201T140000
DTSTAMP:20260419T132607
CREATED:20251121T034625Z
LAST-MODIFIED:20251121T034625Z
UID:19402-1769941800-1769954400@thecrafthousetemecula.com
SUMMARY:Private Paint Party
DESCRIPTION:
URL:https://thecrafthousetemecula.com/calendar/private-paint-party-6/
CATEGORIES:Private Event
ATTACH;FMTTYPE=image/png:https://thecrafthousetemecula.com/wp-content/uploads/2023/09/2.png
END:VEVENT
BEGIN:VEVENT
DTSTART;TZID=UTC:20250425T160000
DTEND;TZID=UTC:20250425T190000
DTSTAMP:20260419T132607
CREATED:20260409T020030Z
LAST-MODIFIED:20260409T020030Z
UID:21415-1745596800-1745607600@thecrafthousetemecula.com
SUMMARY:Private Paint Party
DESCRIPTION:
URL:https://thecrafthousetemecula.com/calendar/private-paint-party-13/
CATEGORIES:Private Event
ATTACH;FMTTYPE=image/png:https://thecrafthousetemecula.com/wp-content/uploads/2023/09/2.png
END:VEVENT
END:VCALENDAR