BEGIN:VCALENDAR
VERSION:2.0
PRODID:-//The Craft House Temecula - ECPv6.15.20//NONSGML v1.0//EN
CALSCALE:GREGORIAN
METHOD:PUBLISH
X-ORIGINAL-URL:https://thecrafthousetemecula.com
X-WR-CALDESC:Events for The Craft House Temecula
REFRESH-INTERVAL;VALUE=DURATION:PT1H
X-Robots-Tag:noindex
X-PUBLISHED-TTL:PT1H
BEGIN:VTIMEZONE
TZID:UTC
BEGIN:STANDARD
TZOFFSETFROM:+0000
TZOFFSETTO:+0000
TZNAME:UTC
DTSTART:20250101T000000
END:STANDARD
END:VTIMEZONE
BEGIN:VEVENT
DTSTART;VALUE=DATE:20260719
DTEND;VALUE=DATE:20260720
DTSTAMP:20260419T155125
CREATED:20260418T201619Z
LAST-MODIFIED:20260418T201619Z
UID:21519-1784419200-1784505599@thecrafthousetemecula.com
SUMMARY:Ultra Luxe Baby Shower Event
DESCRIPTION:
URL:https://thecrafthousetemecula.com/calendar/ultra-luxe-baby-shower-event/
CATEGORIES:Private Event
END:VEVENT
END:VCALENDAR