BEGIN:VCALENDAR
VERSION:2.0
PRODID:-//The Craft House Temecula - ECPv6.15.20//NONSGML v1.0//EN
CALSCALE:GREGORIAN
METHOD:PUBLISH
X-WR-CALNAME:The Craft House Temecula
X-ORIGINAL-URL:https://thecrafthousetemecula.com
X-WR-CALDESC:Events for The Craft House Temecula
REFRESH-INTERVAL;VALUE=DURATION:PT1H
X-Robots-Tag:noindex
X-PUBLISHED-TTL:PT1H
BEGIN:VTIMEZONE
TZID:UTC
BEGIN:STANDARD
TZOFFSETFROM:+0000
TZOFFSETTO:+0000
TZNAME:UTC
DTSTART:20250101T000000
END:STANDARD
END:VTIMEZONE
BEGIN:VEVENT
DTSTART;TZID=UTC:20260422T120000
DTEND;TZID=UTC:20260422T170000
DTSTAMP:20260422T014948
CREATED:20260204T235220Z
LAST-MODIFIED:20260204T235220Z
UID:20327-1776859200-1776877200@thecrafthousetemecula.com
SUMMARY:Pressed Flower Frame Experience
DESCRIPTION:Available alternating Wednesdays.  \nDesign a botanical keepsake using curated pressed flowers and a modern frame. \nA calm\, elevated project that pairs beautifully with our Candle Bar. \nLimited availability; walk-ins welcome.
URL:https://thecrafthousetemecula.com/calendar/pressed-flower-frame-experience/2026-04-22/
LOCATION:The Craft House Temecula\, 32123 Temecula Parkway\, Suite A\, Temecula\, CA\, 92592\, United States
ATTACH;FMTTYPE=image/jpeg:https://thecrafthousetemecula.com/wp-content/uploads/2026/02/IMG_0867-scaled.jpeg
END:VEVENT
END:VCALENDAR